BEGIN:VCALENDAR
VERSION:2.0
PRODID:-//Columbia Entrepreneurship - ECPv6.15.18//NONSGML v1.0//EN
CALSCALE:GREGORIAN
METHOD:PUBLISH
X-ORIGINAL-URL:https://entrepreneurship.columbia.edu
X-WR-CALDESC:Events for Columbia Entrepreneurship
REFRESH-INTERVAL;VALUE=DURATION:PT1H
X-Robots-Tag:noindex
X-PUBLISHED-TTL:PT1H
BEGIN:VTIMEZONE
TZID:UTC
BEGIN:STANDARD
TZOFFSETFROM:+0000
TZOFFSETTO:+0000
TZNAME:UTC
DTSTART:20230101T000000
END:STANDARD
END:VTIMEZONE
BEGIN:VEVENT
DTSTART;VALUE=DATE:20240331
DTEND;VALUE=DATE:20240401
DTSTAMP:20260425T103741
CREATED:20240301T150832Z
LAST-MODIFIED:20240301T150832Z
UID:68597-1711843200-1711929599@entrepreneurship.columbia.edu
SUMMARY:Application Deadline: 2024-2025 Cohort of the Columbia Startup Lab
DESCRIPTION:Applications for the Columbia Startup Lab (CSL) are now open! The CSL offers our alumni entrepreneurs a place to house and nurture their fledgling ventures through tailored programming\, space\, and a vibrant entrepreneurship community.  \nDid you know? \n\nCSL startups have raised $120M+ and $115M+ in acquisitions and exits.\nThe CSL has been headquarters to over 500 startups.\n\nCSL is Columbia University’s recent-alumni co-working space located on the ground floor of 69 Charlton Street. It is a cross-school initiative between Columbia Entrepreneurship\, Columbia Business School\, School of Engineering & Applied Sciences\, Columbia College\, Columbia School of Public Health\, Law\, Barnard and School of International & Public Affairs.  \nNow in its eleventh year\, the CSL has been “corporate headquarters” for more than 500 Columbia-founded ventures. The space is administered by Studio by Tishman Speyer and includes: furnishings (desk and chair)\, WiFi\, water/coffee\, cleaning/maintenance and access to common facilities across the global network. CSL also provides ongoing workshops\, office hours\, networking events\, and community building activities to help resident ventures advance their businesses.
URL:https://entrepreneurship.columbia.edu/event/application-deadline-2024-2025-cohort-of-the-columbia-startup-lab/
END:VEVENT
END:VCALENDAR