BEGIN:VCALENDAR
VERSION:2.0
PRODID:-//Columbia Entrepreneurship - ECPv6.15.18//NONSGML v1.0//EN
CALSCALE:GREGORIAN
METHOD:PUBLISH
X-ORIGINAL-URL:https://entrepreneurship.columbia.edu
X-WR-CALDESC:Events for Columbia Entrepreneurship
REFRESH-INTERVAL;VALUE=DURATION:PT1H
X-Robots-Tag:noindex
X-PUBLISHED-TTL:PT1H
BEGIN:VTIMEZONE
TZID:UTC
BEGIN:STANDARD
TZOFFSETFROM:+0000
TZOFFSETTO:+0000
TZNAME:UTC
DTSTART:20230101T000000
END:STANDARD
END:VTIMEZONE
BEGIN:VEVENT
DTSTART;VALUE=DATE:20241001
DTEND;VALUE=DATE:20241002
DTSTAMP:20260422T115145
CREATED:20241001T141048Z
LAST-MODIFIED:20241001T141048Z
UID:69431-1727740800-1727827199@entrepreneurship.columbia.edu
SUMMARY:Columbia Giving Day 2024 - Support Entrepreneurs
DESCRIPTION:This year\, on Columbia Giving Day\, Columbians everywhere are gathering together to make an impact. At Columbia Entrepreneurship\, Innovation\, and Design\, we make an impact by supporting hundreds of student and alumni entrepreneurs across all of Columbia’s schools. \nClick here to donate to our Columbia Entrepreneurs Fund. \nBecause it takes more than grit and brilliance to launch a new venture\, we offer financial help through the Startup Columbia venture competition\, and space and mentoring at the Columbia Startup Lab (uptown for students\, downtown for alumni) to explore entrepreneurship. \nThe Columbia Startup Lab Uptown\, located on the Morningside campus\, provides a variety of campus-wide programming\, open working space\, mentorship\, and connection to other entrepreneurship nodes around the University for aspiring student founders currently enrolled at Columbia and Barnard. \nThe annual Startup Columbia venture competition is a series of campus-wide startup competitions that give out hundreds of thousands of dollars in non-dilutive cash prizes to the winning teams. \nThe Columbia Startup Lab in Soho is headquarters to over 70 Columbia alumni entrepreneurs each year and offers subsidized working space\, tailored programming\, and a supportive community to help alumni founders and their ventures succeed. \nYour generous contribution will support all of Columbia Entrepreneurship’s robust programming and help today’s Columbians learn\, build\, and launch their ventures: Give Now
URL:https://entrepreneurship.columbia.edu/event/columbia-giving-day-2024-support-entrepreneurs/
END:VEVENT
END:VCALENDAR