BEGIN:VCALENDAR
VERSION:2.0
PRODID:-//Columbia Entrepreneurship - ECPv6.15.18//NONSGML v1.0//EN
CALSCALE:GREGORIAN
METHOD:PUBLISH
X-ORIGINAL-URL:https://entrepreneurship.columbia.edu
X-WR-CALDESC:Events for Columbia Entrepreneurship
REFRESH-INTERVAL;VALUE=DURATION:PT1H
X-Robots-Tag:noindex
X-PUBLISHED-TTL:PT1H
BEGIN:VTIMEZONE
TZID:UTC
BEGIN:STANDARD
TZOFFSETFROM:+0000
TZOFFSETTO:+0000
TZNAME:UTC
DTSTART:20200101T000000
END:STANDARD
END:VTIMEZONE
BEGIN:VEVENT
DTSTART;TZID=UTC:20211007T183000
DTEND;TZID=UTC:20211007T200000
DTSTAMP:20260423T000048
CREATED:20211004T153940Z
LAST-MODIFIED:20211004T155254Z
UID:40409-1633631400-1633636800@entrepreneurship.columbia.edu
SUMMARY:Athena Entrepreneurs Weekly Meet Up
DESCRIPTION:Open to aspiring and emerging women and nonbinary entrepreneurs from Barnard and Columbia (current students). \nNo RSVP required! \n\nThese meetups are a forum for collaboration\, peer support\, and mentorship from experts\, including Athena’s Director of Applied Learning & Entrepreneurship and Athena’s Entrepreneur-In-Residence. Guest experts regularly drop in to share wisdom and insights\, sticking around for one-on-one conversations with student entrepreneurs. \nDrop by on a Thursday evening from 6:30-8 pm at the Athena Center and you’ll find your people and the help you need. \nLearn more \n 
URL:https://entrepreneurship.columbia.edu/event/athena-entrepreneurs-weekly-meet-up/
CATEGORIES:Barnard
END:VEVENT
BEGIN:VEVENT
DTSTART;TZID=UTC:20211012T180000
DTEND;TZID=UTC:20211012T200000
DTSTAMP:20260423T000048
CREATED:20211011T160729Z
LAST-MODIFIED:20211013T160815Z
UID:40546-1634061600-1634068800@entrepreneurship.columbia.edu
SUMMARY:SPARK with Kaylin Marcotte '12Barnard: Supporting Women Through Entrepreneurship
DESCRIPTION:How do you turn a hobby into a business? And how can that business lift up other women? Join this conversation with Barnard alumna and entrepreneur Kaylin Marcotte ’12Barnard. Kaylin is the founder & CEO of JIGGY\, a direct-to-consumer jigsaw puzzle brand on a mission to modernize and elevate the humble jigsaw\, and support female artists around the world. This SPARK will be in person for Barnard students/faculty/staff\, virtual for alums\, and members of the public. Learn more about SPARK here.
URL:https://entrepreneurship.columbia.edu/event/spark-with-kaylin-marcotte-12barnard-supporting-women-through-entrepreneurship/
CATEGORIES:Barnard
END:VEVENT
BEGIN:VEVENT
DTSTART;TZID=UTC:20211014T183000
DTEND;TZID=UTC:20211014T200000
DTSTAMP:20260423T000048
CREATED:20211004T154025Z
LAST-MODIFIED:20211004T155354Z
UID:40411-1634236200-1634241600@entrepreneurship.columbia.edu
SUMMARY:Athena Entrepreneurs Weekly Meet Up
DESCRIPTION:Open to aspiring and emerging women and nonbinary entrepreneurs from Barnard and Columbia (current students). \nNo RSVP required! \n\nThese meetups are a forum for collaboration\, peer support\, and mentorship from experts\, including Athena’s Director of Applied Learning & Entrepreneurship and Athena’s Entrepreneur-In-Residence. Guest experts regularly drop in to share wisdom and insights\, sticking around for one-on-one conversations with student entrepreneurs. \nDrop by on a Thursday evening from 6:30-8 pm at the Athena Center and you’ll find your people and the help you need. \nLearn more \n 
URL:https://entrepreneurship.columbia.edu/event/athena-entrepreneurs-weekly-meet-up-2/
CATEGORIES:Barnard
END:VEVENT
BEGIN:VEVENT
DTSTART;TZID=UTC:20211021T183000
DTEND;TZID=UTC:20211021T200000
DTSTAMP:20260423T000048
CREATED:20211004T154151Z
LAST-MODIFIED:20211004T155423Z
UID:40413-1634841000-1634846400@entrepreneurship.columbia.edu
SUMMARY:Athena Entrepreneurs Weekly Meet Up
DESCRIPTION:Open to aspiring and emerging women and nonbinary entrepreneurs from Barnard and Columbia (current students). \nNo RSVP required! \n\nThese meetups are a forum for collaboration\, peer support\, and mentorship from experts\, including Athena’s Director of Applied Learning & Entrepreneurship and Athena’s Entrepreneur-In-Residence. Guest experts regularly drop in to share wisdom and insights\, sticking around for one-on-one conversations with student entrepreneurs. \nDrop by on a Thursday evening from 6:30-8 pm at the Athena Center and you’ll find your people and the help you need. \nLearn more \n 
URL:https://entrepreneurship.columbia.edu/event/athena-entrepreneurs-meet-up/
CATEGORIES:Barnard
END:VEVENT
BEGIN:VEVENT
DTSTART;TZID=UTC:20211028T183000
DTEND;TZID=UTC:20211028T200000
DTSTAMP:20260423T000048
CREATED:20211004T154257Z
LAST-MODIFIED:20211004T161836Z
UID:40415-1635445800-1635451200@entrepreneurship.columbia.edu
SUMMARY:Athena Entrepreneurs Weekly Meet Up
DESCRIPTION:Open to aspiring and emerging women and nonbinary entrepreneurs from Barnard and Columbia (current students). \nNo RSVP required! \n\nThese meetups are a forum for collaboration\, peer support\, and mentorship from experts\, including Athena’s Director of Applied Learning & Entrepreneurship and Athena’s Entrepreneur-In-Residence. Guest experts regularly drop in to share wisdom and insights\, sticking around for one-on-one conversations with student entrepreneurs. \nDrop by on a Thursday evening from 6:30-8 pm at the Athena Center and you’ll find your people and the help you need. \nLearn more \n 
URL:https://entrepreneurship.columbia.edu/event/athena-entrepreneurs-meet-up-2/
CATEGORIES:Barnard
END:VEVENT
END:VCALENDAR