BEGIN:VCALENDAR
VERSION:2.0
PRODID:-//Columbia Entrepreneurship - ECPv6.15.18//NONSGML v1.0//EN
CALSCALE:GREGORIAN
METHOD:PUBLISH
X-ORIGINAL-URL:https://entrepreneurship.columbia.edu
X-WR-CALDESC:Events for Columbia Entrepreneurship
REFRESH-INTERVAL;VALUE=DURATION:PT1H
X-Robots-Tag:noindex
X-PUBLISHED-TTL:PT1H
BEGIN:VTIMEZONE
TZID:UTC
BEGIN:STANDARD
TZOFFSETFROM:+0000
TZOFFSETTO:+0000
TZNAME:UTC
DTSTART:20210101T000000
END:STANDARD
END:VTIMEZONE
BEGIN:VEVENT
DTSTART;TZID=UTC:20220303T183000
DTEND;TZID=UTC:20220303T193000
DTSTAMP:20260422T030756
CREATED:20220224T163047Z
LAST-MODIFIED:20220304T164124Z
UID:41423-1646332200-1646335800@entrepreneurship.columbia.edu
SUMMARY:Athena Entrepreneurs Weekly Meetups
DESCRIPTION:These meetups\, open to aspiring and emerging women and nonbinary entrepreneurs from Barnard and Columbia\, are a forum for collaboration\, peer support\, and mentorship from experts\, including Athena’s EIR. Guest experts regularly drop in to share wisdom and insights\, sticking around for one-on-one conversations with student entrepreneurs. Learn more about Athena Entrepreneurs here – join at the Athena Center in the Milstein Building.
URL:https://entrepreneurship.columbia.edu/event/athena-entrepreneurs-weekly-meetups-2/
CATEGORIES:Barnard
END:VEVENT
BEGIN:VEVENT
DTSTART;TZID=UTC:20220310T183000
DTEND;TZID=UTC:20220310T193000
DTSTAMP:20260422T030756
CREATED:20220304T164043Z
LAST-MODIFIED:20220304T164043Z
UID:41521-1646937000-1646940600@entrepreneurship.columbia.edu
SUMMARY:Athena Entrepreneurs Weekly Meetups
DESCRIPTION:These meetups\, open to aspiring and emerging women and nonbinary entrepreneurs from Barnard and Columbia\, are a forum for collaboration\, peer support\, and mentorship from experts\, including Athena’s EIR. Guest experts regularly drop in to share wisdom and insights\, sticking around for one-on-one conversations with student entrepreneurs. Learn more about Athena Entrepreneurs here – join at the Athena Center in the Milstein Building.
URL:https://entrepreneurship.columbia.edu/event/athena-entrepreneurs-weekly-meetups-3/
CATEGORIES:Barnard
END:VEVENT
BEGIN:VEVENT
DTSTART;TZID=UTC:20220324T183000
DTEND;TZID=UTC:20220324T193000
DTSTAMP:20260422T030756
CREATED:20220304T164441Z
LAST-MODIFIED:20220304T164441Z
UID:41524-1648146600-1648150200@entrepreneurship.columbia.edu
SUMMARY:Athena Entrepreneurs Weekly Meetups
DESCRIPTION:These meetups\, open to aspiring and emerging women and nonbinary entrepreneurs from Barnard and Columbia\, are a forum for collaboration\, peer support\, and mentorship from experts\, including Athena’s EIR. Guest experts regularly drop in to share wisdom and insights\, sticking around for one-on-one conversations with student entrepreneurs. Learn more about Athena Entrepreneurs here – join at the Athena Center in the Milstein Building.
URL:https://entrepreneurship.columbia.edu/event/athena-entrepreneurs-weekly-meetups-4/
CATEGORIES:Barnard
END:VEVENT
BEGIN:VEVENT
DTSTART;TZID=UTC:20220331T063000
DTEND;TZID=UTC:20220331T193000
DTSTAMP:20260422T030756
CREATED:20220304T164534Z
LAST-MODIFIED:20220304T164534Z
UID:41526-1648708200-1648755000@entrepreneurship.columbia.edu
SUMMARY:Athena Entrepreneurs Weekly Meetups
DESCRIPTION:These meetups\, open to aspiring and emerging women and nonbinary entrepreneurs from Barnard and Columbia\, are a forum for collaboration\, peer support\, and mentorship from experts\, including Athena’s EIR. Guest experts regularly drop in to share wisdom and insights\, sticking around for one-on-one conversations with student entrepreneurs. Learn more about Athena Entrepreneurs here – join at the Athena Center in the Milstein Building.
URL:https://entrepreneurship.columbia.edu/event/athena-entrepreneurs-weekly-meetups-5/
CATEGORIES:Barnard
END:VEVENT
END:VCALENDAR