BEGIN:VCALENDAR
VERSION:2.0
PRODID:-//Columbia Entrepreneurship - ECPv6.15.18//NONSGML v1.0//EN
CALSCALE:GREGORIAN
METHOD:PUBLISH
X-WR-CALNAME:Columbia Entrepreneurship
X-ORIGINAL-URL:https://entrepreneurship.columbia.edu
X-WR-CALDESC:Events for Columbia Entrepreneurship
REFRESH-INTERVAL;VALUE=DURATION:PT1H
X-Robots-Tag:noindex
X-PUBLISHED-TTL:PT1H
BEGIN:VTIMEZONE
TZID:UTC
BEGIN:STANDARD
TZOFFSETFROM:+0000
TZOFFSETTO:+0000
TZNAME:UTC
DTSTART:20210101T000000
END:STANDARD
END:VTIMEZONE
BEGIN:VEVENT
DTSTART;TZID=UTC:20220407T183000
DTEND;TZID=UTC:20220407T193000
DTSTAMP:20260422T222218
CREATED:20220307T164307Z
LAST-MODIFIED:20220307T164307Z
UID:41554-1649356200-1649359800@entrepreneurship.columbia.edu
SUMMARY:Athena Entrepreneurs Weekly Meetups
DESCRIPTION:Hosted by the Athena Center for Leadership at Barnard\, These meetups\, open to aspiring and emerging women and nonbinary entrepreneurs from Barnard and Columbia\, are a forum for collaboration\, peer support\, and mentorship from experts\, including Athena’s Entrepreneur in Residence. Guest experts regularly drop in to share wisdom and insights\, sticking around for one-on-one conversations with student entrepreneurs. Learn more about Athena Entrepreneurs here – join at the Athena Center in the Milstein Building.
URL:https://entrepreneurship.columbia.edu/event/athena-entrepreneurs-weekly-meetups-6/
CATEGORIES:Barnard
END:VEVENT
BEGIN:VEVENT
DTSTART;TZID=UTC:20220414T183000
DTEND;TZID=UTC:20220414T193000
DTSTAMP:20260422T222218
CREATED:20220307T164351Z
LAST-MODIFIED:20220307T164351Z
UID:41556-1649961000-1649964600@entrepreneurship.columbia.edu
SUMMARY:Athena Entrepreneurs Weekly Meetups
DESCRIPTION:Hosted by the Athena Center for Leadership at Barnard\, These meetups\, open to aspiring and emerging women and nonbinary entrepreneurs from Barnard and Columbia\, are a forum for collaboration\, peer support\, and mentorship from experts\, including Athena’s Entrepreneur in Residence. Guest experts regularly drop in to share wisdom and insights\, sticking around for one-on-one conversations with student entrepreneurs. Learn more about Athena Entrepreneurs here – join at the Athena Center in the Milstein Building.
URL:https://entrepreneurship.columbia.edu/event/athena-entrepreneurs-weekly-meetups-7/
CATEGORIES:Barnard
END:VEVENT
END:VCALENDAR