BEGIN:VCALENDAR
VERSION:2.0
PRODID:-//Columbia Entrepreneurship - ECPv6.15.18//NONSGML v1.0//EN
CALSCALE:GREGORIAN
METHOD:PUBLISH
X-WR-CALNAME:Columbia Entrepreneurship
X-ORIGINAL-URL:https://entrepreneurship.columbia.edu
X-WR-CALDESC:Events for Columbia Entrepreneurship
REFRESH-INTERVAL;VALUE=DURATION:PT1H
X-Robots-Tag:noindex
X-PUBLISHED-TTL:PT1H
BEGIN:VTIMEZONE
TZID:UTC
BEGIN:STANDARD
TZOFFSETFROM:+0000
TZOFFSETTO:+0000
TZNAME:UTC
DTSTART:20200101T000000
END:STANDARD
END:VTIMEZONE
BEGIN:VEVENT
DTSTART;TZID=UTC:20211012T180000
DTEND;TZID=UTC:20211012T200000
DTSTAMP:20260422T235252
CREATED:20211011T160729Z
LAST-MODIFIED:20211013T160815Z
UID:40546-1634061600-1634068800@entrepreneurship.columbia.edu
SUMMARY:SPARK with Kaylin Marcotte '12Barnard: Supporting Women Through Entrepreneurship
DESCRIPTION:How do you turn a hobby into a business? And how can that business lift up other women? Join this conversation with Barnard alumna and entrepreneur Kaylin Marcotte ’12Barnard. Kaylin is the founder & CEO of JIGGY\, a direct-to-consumer jigsaw puzzle brand on a mission to modernize and elevate the humble jigsaw\, and support female artists around the world. This SPARK will be in person for Barnard students/faculty/staff\, virtual for alums\, and members of the public. Learn more about SPARK here.
URL:https://entrepreneurship.columbia.edu/event/spark-with-kaylin-marcotte-12barnard-supporting-women-through-entrepreneurship/
CATEGORIES:Barnard
END:VEVENT
END:VCALENDAR