BEGIN:VCALENDAR
VERSION:2.0
PRODID:-//Columbia Entrepreneurship - ECPv6.15.18//NONSGML v1.0//EN
CALSCALE:GREGORIAN
METHOD:PUBLISH
X-ORIGINAL-URL:https://entrepreneurship.columbia.edu
X-WR-CALDESC:Events for Columbia Entrepreneurship
REFRESH-INTERVAL;VALUE=DURATION:PT1H
X-Robots-Tag:noindex
X-PUBLISHED-TTL:PT1H
BEGIN:VTIMEZONE
TZID:UTC
BEGIN:STANDARD
TZOFFSETFROM:+0000
TZOFFSETTO:+0000
TZNAME:UTC
DTSTART:20200101T000000
END:STANDARD
END:VTIMEZONE
BEGIN:VEVENT
DTSTART;TZID=UTC:20211118T183000
DTEND;TZID=UTC:20211118T200000
DTSTAMP:20260422T222625
CREATED:20211004T154633Z
LAST-MODIFIED:20211004T155129Z
UID:40421-1637260200-1637265600@entrepreneurship.columbia.edu
SUMMARY:Athena Entrepreneurs Weekly Meet Up
DESCRIPTION:Open to aspiring and emerging women and nonbinary entrepreneurs from Barnard and Columbia (current students). \nNo RSVP required! \n\nThese meetups are a forum for collaboration\, peer support\, and mentorship from experts\, including Athena’s Director of Applied Learning & Entrepreneurship and Athena’s Entrepreneur-In-Residence. Guest experts regularly drop in to share wisdom and insights\, sticking around for one-on-one conversations with student entrepreneurs. \nDrop by on a Thursday evening from 6:30-8 pm at the Athena Center and you’ll find your people and the help you need. \nLearn more \n 
URL:https://entrepreneurship.columbia.edu/event/athena-entrepreneurs-meet-up-4/
CATEGORIES:Barnard
END:VEVENT
END:VCALENDAR