BEGIN:VCALENDAR
VERSION:2.0
PRODID:-//Columbia Entrepreneurship - ECPv6.15.18//NONSGML v1.0//EN
CALSCALE:GREGORIAN
METHOD:PUBLISH
X-WR-CALNAME:Columbia Entrepreneurship
X-ORIGINAL-URL:https://entrepreneurship.columbia.edu
X-WR-CALDESC:Events for Columbia Entrepreneurship
REFRESH-INTERVAL;VALUE=DURATION:PT1H
X-Robots-Tag:noindex
X-PUBLISHED-TTL:PT1H
BEGIN:VTIMEZONE
TZID:UTC
BEGIN:STANDARD
TZOFFSETFROM:+0000
TZOFFSETTO:+0000
TZNAME:UTC
DTSTART:20180101T000000
END:STANDARD
END:VTIMEZONE
BEGIN:VEVENT
DTSTART;VALUE=DATE:20191011
DTEND;VALUE=DATE:20191012
DTSTAMP:20260422T145452
CREATED:20190827T171435Z
LAST-MODIFIED:20190827T171435Z
UID:18228-1570752000-1570838399@entrepreneurship.columbia.edu
SUMMARY:2019 Social Enterprise Conference
DESCRIPTION:OPEN TO ALL \nREGISTER HERE \n\nColumbia University\nAlfred Lerner Hall\n2920 Broadway\, New York\, NY 10027\n8:00 AM–5:30 PM \nRegister Now for Early Bird Pricing*\nStudent Tickets $25 ($50 after August 31)\nGeneral Admission $100 ($175 after August 31)\n*No code required. \nThe business and investor community once questioned whether it could afford to prioritize social impact. The consensus is now clear—how can businesses afford not to? The Millennial and Gen Z generations are driving trends in impact investing\, using their purchasing power to demand change\, and seeking employers that are socially conscious. As a result\, funders and the organizations they invest in are directing their attention not only to the bottom line\, but also to how business and financing models can be aligned to positively contribute to society. \nThis headline event\, located in the finance capital of the world\, provides a unique opportunity to tap into the vibrant ecosystem of capital for impact through the lens of philanthropy\, impact investing\, ESG\, and social venture and business examples. Social impact leaders in business\, government\, nonprofit\, and philanthropy will speak to how they are changing the way we think about how capital is sourced and used to generate sustainable solutions to global\, systemic challenges. Hear where opportunities exist to pursue future careers of impact on both the financing and implementation sides of social impact capital. \nJoin us on October 11\, 2019 as we bring together industry leaders\, investors\, philanthropists\, professionals\, faculty\, students\, and alumni to share best practices and engender new ideas surrounding the intersection of capital and society. Speaker presentations will catalyze conversations of change and embolden a generation to take risks in order to create a world in which everyone\, regardless of where they were born\, has the equal opportunity to succeed in creating a better life for themselves\, their families\, and their communities. \nThis conference was founded by Columbia Business School’s Social Enterprise Club members in 2002\, and has grown to engage students across Columbia University\, as the pre-eminent forum to explore and address the ever-changing topics of social justice and innovation from the lens of business solutions.
URL:https://entrepreneurship.columbia.edu/event/2019-social-enterprise-conference/
CATEGORIES:Columbia Business School: Tamer Center
END:VEVENT
END:VCALENDAR