BEGIN:VCALENDAR
VERSION:2.0
PRODID:-//Columbia Entrepreneurship - ECPv6.15.18//NONSGML v1.0//EN
CALSCALE:GREGORIAN
METHOD:PUBLISH
X-ORIGINAL-URL:https://entrepreneurship.columbia.edu
X-WR-CALDESC:Events for Columbia Entrepreneurship
REFRESH-INTERVAL;VALUE=DURATION:PT1H
X-Robots-Tag:noindex
X-PUBLISHED-TTL:PT1H
BEGIN:VTIMEZONE
TZID:UTC
BEGIN:STANDARD
TZOFFSETFROM:+0000
TZOFFSETTO:+0000
TZNAME:UTC
DTSTART:20220101T000000
END:STANDARD
END:VTIMEZONE
BEGIN:VEVENT
DTSTART;TZID=UTC:20230719T123000
DTEND;TZID=UTC:20230719T133000
DTSTAMP:20260423T004137
CREATED:20230720T222246Z
LAST-MODIFIED:20230720T222246Z
UID:49940-1689769800-1689773400@entrepreneurship.columbia.edu
SUMMARY:Unpacking Product Market Fit with Mike Lewis
DESCRIPTION:Mike Lewis\, General Partner at Enjoy the Work\, will define Product Market Fit (PMF)\, a framework for seeking PMF\, and provide tips on what to do if there remains a gap between customer\, problem and solution. \nRSVP Here
URL:https://entrepreneurship.columbia.edu/event/unpacking-product-market-fit-with-mike-lewis/
CATEGORIES:Columbia Business School
END:VEVENT
END:VCALENDAR