BEGIN:VCALENDAR
VERSION:2.0
PRODID:-//Columbia Entrepreneurship - ECPv6.15.18//NONSGML v1.0//EN
CALSCALE:GREGORIAN
METHOD:PUBLISH
X-ORIGINAL-URL:https://entrepreneurship.columbia.edu
X-WR-CALDESC:Events for Columbia Entrepreneurship
REFRESH-INTERVAL;VALUE=DURATION:PT1H
X-Robots-Tag:noindex
X-PUBLISHED-TTL:PT1H
BEGIN:VTIMEZONE
TZID:UTC
BEGIN:STANDARD
TZOFFSETFROM:+0000
TZOFFSETTO:+0000
TZNAME:UTC
DTSTART:20210101T000000
END:STANDARD
END:VTIMEZONE
BEGIN:VEVENT
DTSTART;TZID=UTC:20220406T080000
DTEND;TZID=UTC:20220406T170000
DTSTAMP:20260425T104444
CREATED:20220207T171534Z
LAST-MODIFIED:20220207T171534Z
UID:41325-1649232000-1649264400@entrepreneurship.columbia.edu
SUMMARY:Data Science Day 2022
DESCRIPTION:Data Science Day provides a forum for innovators in academia\, industry\, and government to connect. The April 6\, 2022 event will feature lightning talks from leading Columbia University faculty members; a poster session on the latest data science innovation; and keynotes from senior industry and government representatives. \nRegister here
URL:https://entrepreneurship.columbia.edu/event/data-science-day-2022/
CATEGORIES:Columbia Data Science Institute
END:VEVENT
END:VCALENDAR