BEGIN:VCALENDAR
VERSION:2.0
PRODID:-//Columbia Entrepreneurship - ECPv6.15.18//NONSGML v1.0//EN
CALSCALE:GREGORIAN
METHOD:PUBLISH
X-WR-CALNAME:Columbia Entrepreneurship
X-ORIGINAL-URL:https://entrepreneurship.columbia.edu
X-WR-CALDESC:Events for Columbia Entrepreneurship
REFRESH-INTERVAL;VALUE=DURATION:PT1H
X-Robots-Tag:noindex
X-PUBLISHED-TTL:PT1H
BEGIN:VTIMEZONE
TZID:UTC
BEGIN:STANDARD
TZOFFSETFROM:+0000
TZOFFSETTO:+0000
TZNAME:UTC
DTSTART:20230101T000000
END:STANDARD
END:VTIMEZONE
BEGIN:VEVENT
DTSTART;TZID=UTC:20240124T173000
DTEND;TZID=UTC:20240124T190000
DTSTAMP:20260423T070136
CREATED:20240117T221753Z
LAST-MODIFIED:20240117T221753Z
UID:67239-1706117400-1706122800@entrepreneurship.columbia.edu
SUMMARY:Innovation Forum: Immigration and Entrepreneurship
DESCRIPTION:RSVP \nJoin Columbia Engineering for an open forum to learn more about entrepreneurship and network with the Columbia University startup community. You’ll hear from Columbia alumni and other experts on their experiences working in the field\, how they’ve applied their Columbia experience in their careers\, and more. This event will feature Megan Kludt\, Partner at Curran\, Berger & Kludt LLP\, a boutique law firm specializing in all areas of immigration\, including business\, achievement\, investment\, family\, and humanitarian bases for immigration status.
URL:https://entrepreneurship.columbia.edu/event/innovation-forum-immigration-and-entrepreneurship/
CATEGORIES:Columbia Engineering
END:VEVENT
BEGIN:VEVENT
DTSTART;VALUE=DATE:20240125
DTEND;VALUE=DATE:20240126
DTSTAMP:20260423T070136
CREATED:20240102T184354Z
LAST-MODIFIED:20240102T184354Z
UID:51448-1706140800-1706227199@entrepreneurship.columbia.edu
SUMMARY:StartMe Up Bootcamp Winter 2024 Kickoff
DESCRIPTION:Apply here. \nJoin a select group of entrepreneurs for a two-week hybrid program designed to build your successful startup. The bootcamp introduces participants to the Lean Launchpad methodology and techniques to direct customer discovery through field interviews. Participants are required to conduct at least 20 customer interviews; attend online sessions and engage with other bootcamp teams and entrepreneurs.  Teams “get out of the building” to learn from potential customers to determine if they are solving a real-world problem with a sizeable market opportunity. In addition to providing entrepreneurial training\, this program helps students and researchers identify new ways to apply research to solve global challenges. \nFaculty\, staff\, postdoctoral\, graduate and undergraduate student researchers may apply with a team of one to three people. Applicants are expected to be available for all short-course sessions. Teams that successfully complete this bootcamp may become eligible to apply for the National Science Foundation’s I-Corps Teams program\, which includes a $50\,000 grant. \nWinter 2024 Bootcamp Dates  \nKickoff Day 1  |  January 25\, 9:30 AM – 12:00 PM\nKickoff Day 2  |  January 26\, 9:30 AM – 12:00 PM\nMidpoint Check-in |  February 2\, 9:30 AM – 12:00 PM\nFinale  |  February 9\, 9:30 AM – 12:00 PM\n \n*Interviews are required prior to acceptance. Please email seaseship@columbia.edu to set up a brief interview after submitting your application. \n  \nLearn more.
URL:https://entrepreneurship.columbia.edu/event/startme-up-bootcamp-winter-2024-kickoff/
CATEGORIES:Columbia Engineering
END:VEVENT
END:VCALENDAR