BEGIN:VCALENDAR
VERSION:2.0
PRODID:-//Columbia Entrepreneurship - ECPv6.15.18//NONSGML v1.0//EN
CALSCALE:GREGORIAN
METHOD:PUBLISH
X-ORIGINAL-URL:https://entrepreneurship.columbia.edu
X-WR-CALDESC:Events for Columbia Entrepreneurship
REFRESH-INTERVAL;VALUE=DURATION:PT1H
X-Robots-Tag:noindex
X-PUBLISHED-TTL:PT1H
BEGIN:VTIMEZONE
TZID:UTC
BEGIN:STANDARD
TZOFFSETFROM:+0000
TZOFFSETTO:+0000
TZNAME:UTC
DTSTART:20250101T000000
END:STANDARD
END:VTIMEZONE
BEGIN:VEVENT
DTSTART;VALUE=DATE:20260430
DTEND;VALUE=DATE:20260501
DTSTAMP:20260423T195238
CREATED:20260423T132118Z
LAST-MODIFIED:20260423T132207Z
UID:82960-1777507200-1777593599@entrepreneurship.columbia.edu
SUMMARY:Funding Opportunity: Ignition Grants 2026
DESCRIPTION:Ignition grants assist Columbia University engineering students in launching new businesses\, social and not-for-profit ventures. Ignition grants support the initial stages of early venture development from formation\, IP protection\, and incubation to building prototypes and creating proofs of concept. Teams that have won the Technology Challenge or received Ignition Grants in the past will not be eligible. Applicants must have a current SEAS student on the team to apply. Teams who applied to Startup Columbia Round 2 in the Tech Challenge are welcome to update their applications before resubmitting. \nDeadline: Friday\, April 30 \nAPPLY HERE
URL:https://entrepreneurship.columbia.edu/event/funding-opportunity-ignition-grants-2026/
CATEGORIES:Columbia Engineering
ATTACH;FMTTYPE=image/png:https://entrepreneurship.columbia.edu/wp-content/uploads/2025/06/CSL-Refresh-Web-copy.png
END:VEVENT
END:VCALENDAR