BEGIN:VCALENDAR
VERSION:2.0
PRODID:-//Columbia Entrepreneurship - ECPv6.15.18//NONSGML v1.0//EN
CALSCALE:GREGORIAN
METHOD:PUBLISH
X-WR-CALNAME:Columbia Entrepreneurship
X-ORIGINAL-URL:https://entrepreneurship.columbia.edu
X-WR-CALDESC:Events for Columbia Entrepreneurship
REFRESH-INTERVAL;VALUE=DURATION:PT1H
X-Robots-Tag:noindex
X-PUBLISHED-TTL:PT1H
BEGIN:VTIMEZONE
TZID:UTC
BEGIN:STANDARD
TZOFFSETFROM:+0000
TZOFFSETTO:+0000
TZNAME:UTC
DTSTART:20220101T000000
END:STANDARD
END:VTIMEZONE
BEGIN:VEVENT
DTSTART;VALUE=DATE:20230223
DTEND;VALUE=DATE:20230224
DTSTAMP:20260422T101437
CREATED:20230221T152401Z
LAST-MODIFIED:20230221T152401Z
UID:46795-1677110400-1677196799@entrepreneurship.columbia.edu
SUMMARY:Columbia Venture Competition is OPEN (Deadlines extended!)
DESCRIPTION:Welcome to the 10th Annual Columbia Venture Competition (CVC)! The CVC is a series of Challenges\, or business plan competitions\, for Columbia’s thriving entrepreneurship community. Every year\, alumni judges evaluate competitors in six different challenges. Each has its own focus\, save for the StartupColumbia Challenge which is open to any kind of business model\, including not-for-profit and social enterprises. Check out the available tracks\, awards\, and eligibility here.
URL:https://entrepreneurship.columbia.edu/event/columbia-venture-competition-is-open-deadlines-extended/
CATEGORIES:Columbia Entrepreneurship
END:VEVENT
END:VCALENDAR