BEGIN:VCALENDAR
VERSION:2.0
PRODID:-//Columbia Entrepreneurship - ECPv6.15.18//NONSGML v1.0//EN
CALSCALE:GREGORIAN
METHOD:PUBLISH
X-WR-CALNAME:Columbia Entrepreneurship
X-ORIGINAL-URL:https://entrepreneurship.columbia.edu
X-WR-CALDESC:Events for Columbia Entrepreneurship
REFRESH-INTERVAL;VALUE=DURATION:PT1H
X-Robots-Tag:noindex
X-PUBLISHED-TTL:PT1H
BEGIN:VTIMEZONE
TZID:UTC
BEGIN:STANDARD
TZOFFSETFROM:+0000
TZOFFSETTO:+0000
TZNAME:UTC
DTSTART:20220101T000000
END:STANDARD
END:VTIMEZONE
BEGIN:VEVENT
DTSTART;VALUE=DATE:20231001
DTEND;VALUE=DATE:20231002
DTSTAMP:20260421T044650
CREATED:20230726T211247Z
LAST-MODIFIED:20230726T211418Z
UID:50063-1696118400-1696204799@entrepreneurship.columbia.edu
SUMMARY:Rolling Admission: Columbia Startup Lab Morningside
DESCRIPTION:Columbia Startup Lab (CSL) Morningside provides a host of campus-wide programming\, open working space\, mentorship\, and connection to other entrepreneurship nodes around the University for aspiring student founders currently enrolled at Columbia and Barnard. This is a way to onboard into the Columbia entrepreneurship ecosystem throughout the year. \nOur on-campus programming is structured to catch students at 2 distinct points in the entrepreneurship journey: CSL: LEARN and CSL: INCUBATE. \nRead more and submit an application here.
URL:https://entrepreneurship.columbia.edu/event/rolling-admission-columbia-startup-lab-morningside-3/
CATEGORIES:Columbia Entrepreneurship
END:VEVENT
END:VCALENDAR