BEGIN:VCALENDAR
VERSION:2.0
PRODID:-//Columbia Entrepreneurship - ECPv6.15.18//NONSGML v1.0//EN
CALSCALE:GREGORIAN
METHOD:PUBLISH
X-WR-CALNAME:Columbia Entrepreneurship
X-ORIGINAL-URL:https://entrepreneurship.columbia.edu
X-WR-CALDESC:Events for Columbia Entrepreneurship
REFRESH-INTERVAL;VALUE=DURATION:PT1H
X-Robots-Tag:noindex
X-PUBLISHED-TTL:PT1H
BEGIN:VTIMEZONE
TZID:UTC
BEGIN:STANDARD
TZOFFSETFROM:+0000
TZOFFSETTO:+0000
TZNAME:UTC
DTSTART:20200101T000000
END:STANDARD
END:VTIMEZONE
BEGIN:VEVENT
DTSTART;TZID=UTC:20210608T120000
DTEND;TZID=UTC:20210608T150000
DTSTAMP:20260423T205408
CREATED:20210407T194424Z
LAST-MODIFIED:20210407T194424Z
UID:38797-1623153600-1623164400@entrepreneurship.columbia.edu
SUMMARY:Leading Creative Team Collaboration
DESCRIPTION:Enroll today here. \n\nProgram Overview\nCreativity is a necessary team capacity as organizations respond to change. This interactive program provides an overview of techniques that leverage the innate creative potential of your team. You will learn how to establish norms that promote well-tested creative behaviors like divergent thinking\, associative thinking\, and problem reframing. The program will also introduce tools to manage the creative process of teams working remotely and in person. Lessons are equally applicable for leaders driving innovation and leaders who are simply looking to add a creative boost to their team. \nThe program taps into the thought leadership and unique resources of the Columbia Entrepreneurship Design Studio\, which helps entrepreneurs\, professionals\, students\, faculty\, and alumni approach business challenges and opportunities in a more entrepreneurial\, collaborative\, and creatively confident way. \nLearning Outcomes\n✓ Learn three creative behaviors: divergent thinking\, associative thinking\, and problem reframing \n✓ Understand how creative norms shape team output \n✓ Acquire tools for generating and sharing ideas for in-person and remote teams \nTopics\n\nIntroduction to Creative Behaviors\nCreative Techniques\nTeam Norms\nCollaborative Technologies
URL:https://entrepreneurship.columbia.edu/event/leading-creative-team-collaboration/
CATEGORIES:Columbia Executive Education
END:VEVENT
END:VCALENDAR