BEGIN:VCALENDAR
VERSION:2.0
PRODID:-//Columbia Entrepreneurship - ECPv6.15.18//NONSGML v1.0//EN
CALSCALE:GREGORIAN
METHOD:PUBLISH
X-ORIGINAL-URL:https://entrepreneurship.columbia.edu
X-WR-CALDESC:Events for Columbia Entrepreneurship
REFRESH-INTERVAL;VALUE=DURATION:PT1H
X-Robots-Tag:noindex
X-PUBLISHED-TTL:PT1H
BEGIN:VTIMEZONE
TZID:UTC
BEGIN:STANDARD
TZOFFSETFROM:+0000
TZOFFSETTO:+0000
TZNAME:UTC
DTSTART:20200101T000000
END:STANDARD
END:VTIMEZONE
BEGIN:VEVENT
DTSTART;VALUE=DATE:20210215
DTEND;VALUE=DATE:20210216
DTSTAMP:20260424T212245
CREATED:20210125T174136Z
LAST-MODIFIED:20210125T174409Z
UID:30930-1613347200-1613433599@entrepreneurship.columbia.edu
SUMMARY:Deadline: Columbia-Corning Advanced Materials Prize
DESCRIPTION:APPLY HERE \nOpen to all researchers at Columbia University (faculty\, PhD students\, postdocs\, undergraduates) developing translational research projects in the advanced materials space.  Learn more about eligible projects in the areas of life sciences\, ceramics\, quantum\, battery technologies\, photonics and display technologies\, advanced coatings and paints\, and more here. \n\nAre you working on translational research/a startup in the advanced materials space?  Apply by February 15 for the inaugural Columbia-Corning Advanced Materials Prize.  Winners will receive up to $50\,000 and mentorship from Corning and CTV’s entrepreneurial teams.
URL:https://entrepreneurship.columbia.edu/event/deadline-columbia-corning-advanced-materials-prize/
CATEGORIES:Columbia Lab to Market Accelerator Network
END:VEVENT
END:VCALENDAR