BEGIN:VCALENDAR
VERSION:2.0
PRODID:-//Columbia Entrepreneurship - ECPv6.15.18//NONSGML v1.0//EN
CALSCALE:GREGORIAN
METHOD:PUBLISH
X-WR-CALNAME:Columbia Entrepreneurship
X-ORIGINAL-URL:https://entrepreneurship.columbia.edu
X-WR-CALDESC:Events for Columbia Entrepreneurship
REFRESH-INTERVAL;VALUE=DURATION:PT1H
X-Robots-Tag:noindex
X-PUBLISHED-TTL:PT1H
BEGIN:VTIMEZONE
TZID:UTC
BEGIN:STANDARD
TZOFFSETFROM:+0000
TZOFFSETTO:+0000
TZNAME:UTC
DTSTART:20200101T000000
END:STANDARD
END:VTIMEZONE
BEGIN:VEVENT
DTSTART;VALUE=DATE:20211004
DTEND;VALUE=DATE:20211005
DTSTAMP:20260426T001326
CREATED:20210927T185141Z
LAST-MODIFIED:20210927T185141Z
UID:40345-1633305600-1633391999@entrepreneurship.columbia.edu
SUMMARY:Deadline: Almaworks
DESCRIPTION:Working on a startup? Almaworks helps early-stage Columbia affiliated startups achieve significant\, sustainable growth. We offer cohort companies a unique set of value-adds including world-class mentorship\, access to VCs and investors\, corporate perks\, discounted legal access and more. Almaworks has graduated 90+ startups which have gone onto raise $45M+ and have graduated into YC\, Techstars\, and more and have won hundreds of thousands of dollars in grants and prizes. Learn more at the Almaworks website and direct any questions to almaworks@columbia.edu. \nApply at alma.works/apply by Monday\, October 4th at 11:59pm
URL:https://entrepreneurship.columbia.edu/event/deadline-almaworks/
CATEGORIES:Columbia Organization for Rising Entrepreneurs (CORE)
END:VEVENT
END:VCALENDAR