BEGIN:VCALENDAR
VERSION:2.0
PRODID:-//Columbia Entrepreneurship - ECPv6.15.18//NONSGML v1.0//EN
CALSCALE:GREGORIAN
METHOD:PUBLISH
X-ORIGINAL-URL:https://entrepreneurship.columbia.edu
X-WR-CALDESC:Events for Columbia Entrepreneurship
REFRESH-INTERVAL;VALUE=DURATION:PT1H
X-Robots-Tag:noindex
X-PUBLISHED-TTL:PT1H
BEGIN:VTIMEZONE
TZID:UTC
BEGIN:STANDARD
TZOFFSETFROM:+0000
TZOFFSETTO:+0000
TZNAME:UTC
DTSTART:20210101T000000
END:STANDARD
END:VTIMEZONE
BEGIN:VEVENT
DTSTART;TZID=UTC:20220225T140000
DTEND;TZID=UTC:20220225T150000
DTSTAMP:20260425T011023
CREATED:20220224T162000Z
LAST-MODIFIED:20220224T162000Z
UID:41417-1645797600-1645801200@entrepreneurship.columbia.edu
SUMMARY:CORE's Still We Rise: Black Student Entrepreneurship Panel
DESCRIPTION:This event with Black founders from Columbia and Barnard includes Yelissa Lopez and Stephen Mgbemeje from Upcomers\, Zusi Inegbeniki from Millenium Angel Marketing Agency\, Mazen Alsafi from Barriers\, and Shaniqua Davis from Exclusive Beauty Hair Salon. This event is the third installment within CORE Elevate’s Black History Month series entitled Still We Rise. Despite the challenges that come with being a Black entrepreneur\, this series aims to highlight the presence of Black brilliance with the hopes of inspiring underrepresented founders to pursue and succeed in their entrepreneurial goals.
URL:https://entrepreneurship.columbia.edu/event/cores-still-we-rise-black-student-entrepreneurship-panel/
CATEGORIES:Columbia Organization for Rising Entrepreneurs (CORE)
END:VEVENT
END:VCALENDAR