BEGIN:VCALENDAR
VERSION:2.0
PRODID:-//Columbia Entrepreneurship - ECPv6.15.18//NONSGML v1.0//EN
CALSCALE:GREGORIAN
METHOD:PUBLISH
X-ORIGINAL-URL:https://entrepreneurship.columbia.edu
X-WR-CALDESC:Events for Columbia Entrepreneurship
REFRESH-INTERVAL;VALUE=DURATION:PT1H
X-Robots-Tag:noindex
X-PUBLISHED-TTL:PT1H
BEGIN:VTIMEZONE
TZID:UTC
BEGIN:STANDARD
TZOFFSETFROM:+0000
TZOFFSETTO:+0000
TZNAME:UTC
DTSTART:20210101T000000
END:STANDARD
END:VTIMEZONE
BEGIN:VEVENT
DTSTART;TZID=UTC:20220430T113000
DTEND;TZID=UTC:20220430T123000
DTSTAMP:20260423T233213
CREATED:20220425T215016Z
LAST-MODIFIED:20220425T215016Z
UID:41758-1651318200-1651321800@entrepreneurship.columbia.edu
SUMMARY:Almaworks Demo Day
DESCRIPTION:Almaworks Demo Day will be held on Friday\, Apr 29\, 11:30am on Zoom. Startups from this incredible Spring ’22 cohort will present and pitch their companies to the Columbia Community\, as well as a variety of VCs and Angels. This will be followed by a Q&A session for each team. \nRSVP
URL:https://entrepreneurship.columbia.edu/event/almaworks-demo-day-2/
CATEGORIES:Columbia Organization for Rising Entrepreneurs (CORE)
END:VEVENT
END:VCALENDAR