BEGIN:VCALENDAR
VERSION:2.0
PRODID:-//Columbia Entrepreneurship - ECPv6.15.18//NONSGML v1.0//EN
CALSCALE:GREGORIAN
METHOD:PUBLISH
X-WR-CALNAME:Columbia Entrepreneurship
X-ORIGINAL-URL:https://entrepreneurship.columbia.edu
X-WR-CALDESC:Events for Columbia Entrepreneurship
REFRESH-INTERVAL;VALUE=DURATION:PT1H
X-Robots-Tag:noindex
X-PUBLISHED-TTL:PT1H
BEGIN:VTIMEZONE
TZID:UTC
BEGIN:STANDARD
TZOFFSETFROM:+0000
TZOFFSETTO:+0000
TZNAME:UTC
DTSTART:20200101T000000
END:STANDARD
END:VTIMEZONE
BEGIN:VEVENT
DTSTART;VALUE=DATE:20210927
DTEND;VALUE=DATE:20210928
DTSTAMP:20260426T024741
CREATED:20210921T161043Z
LAST-MODIFIED:20210921T161043Z
UID:40274-1632700800-1632787199@entrepreneurship.columbia.edu
SUMMARY:Deadline: SIPA Dean’s Public Policy Challenge Grant Program
DESCRIPTION:Learn more and apply here. \nThe program\, which is part of the campus-wide Columbia Venture Competition\, invites students to turn their policy passions into entrepreneurial ventures – whether for profit or not for profit – and to design cutting-edge projects or prototypes that use ICT and/or data analytics to advance a public policy objective. Students across CU can apply\, as long as they have at least 1 SIPA member.
URL:https://entrepreneurship.columbia.edu/event/deadline-sipa-deans-public-policy-challenge-grant-program/
CATEGORIES:Columbia SIPA
END:VEVENT
END:VCALENDAR