BEGIN:VCALENDAR
VERSION:2.0
PRODID:-//Columbia Entrepreneurship - ECPv6.15.18//NONSGML v1.0//EN
CALSCALE:GREGORIAN
METHOD:PUBLISH
X-WR-CALNAME:Columbia Entrepreneurship
X-ORIGINAL-URL:https://entrepreneurship.columbia.edu
X-WR-CALDESC:Events for Columbia Entrepreneurship
REFRESH-INTERVAL;VALUE=DURATION:PT1H
X-Robots-Tag:noindex
X-PUBLISHED-TTL:PT1H
BEGIN:VTIMEZONE
TZID:UTC
BEGIN:STANDARD
TZOFFSETFROM:+0000
TZOFFSETTO:+0000
TZNAME:UTC
DTSTART:20210101T000000
END:STANDARD
END:VTIMEZONE
BEGIN:VEVENT
DTSTART;TZID=UTC:20221013T150000
DTEND;TZID=UTC:20221013T170000
DTSTAMP:20260420T071145
CREATED:20221001T170235Z
LAST-MODIFIED:20221001T170235Z
UID:42668-1665673200-1665680400@entrepreneurship.columbia.edu
SUMMARY:Open Studio Hours
DESCRIPTION:Are you a Columbia\, Barnard\, or Teachers College student with an idea and want to get feedback from the Columbia Entrepreneurship Design Studio at Columbia Startup Lab Morningside? Are you interested in learning more about how human centered design can help you get unstuck on class or work projects? Do you or your team just need a creative environment to work in? \nIf the answer is yes to any of those questions\, please come to Open Studio Hours: Room 430 at Riverside Church (entrances at 91 Claremont Avenue or 645 W 120th Street).
URL:https://entrepreneurship.columbia.edu/event/open-studio-hours-34/
CATEGORIES:Columbia Startup Lab - Morningside
END:VEVENT
BEGIN:VEVENT
DTSTART;TZID=UTC:20221013T180000
DTEND;TZID=UTC:20221013T200000
DTSTAMP:20260420T071145
CREATED:20220516T153314Z
LAST-MODIFIED:20240125T180823Z
UID:41915-1665684000-1665691200@entrepreneurship.columbia.edu
SUMMARY:CSL Uptown Member Mixer
DESCRIPTION:*Please note that this event is at capacity and no longer accepting RSVPS* \n  \nOpen to Columbia Startup Lab Uptown members. \n  \nCurrent Columbia and Barnard students who are working on a startup idea are eligible to become members of the Columbia Startup Lab Morningside. Please fill out this application for consideration. Admission is rolling. \nIf you are a current student who is not actively working on a startup idea\, but is interested in entrepreneurship\, please check out some of the other events on this calendar. \n 
URL:https://entrepreneurship.columbia.edu/event/student-mixer-kicking-off-fall-2022-entrepreneurship-at-columbia/
CATEGORIES:Columbia Startup Lab - Morningside
END:VEVENT
END:VCALENDAR