BEGIN:VCALENDAR
VERSION:2.0
PRODID:-//Columbia Entrepreneurship - ECPv6.15.18//NONSGML v1.0//EN
CALSCALE:GREGORIAN
METHOD:PUBLISH
X-ORIGINAL-URL:https://entrepreneurship.columbia.edu
X-WR-CALDESC:Events for Columbia Entrepreneurship
REFRESH-INTERVAL;VALUE=DURATION:PT1H
X-Robots-Tag:noindex
X-PUBLISHED-TTL:PT1H
BEGIN:VTIMEZONE
TZID:UTC
BEGIN:STANDARD
TZOFFSETFROM:+0000
TZOFFSETTO:+0000
TZNAME:UTC
DTSTART:20220101T000000
END:STANDARD
END:VTIMEZONE
BEGIN:VEVENT
DTSTART;TZID=UTC:20230331T080000
DTEND;TZID=UTC:20230331T170000
DTSTAMP:20260425T233949
CREATED:20230301T224715Z
LAST-MODIFIED:20230306T135905Z
UID:47173-1680249600-1680282000@entrepreneurship.columbia.edu
SUMMARY:Deadline: Apply for the 2023-2024 Cohort of the Columbia Startup Lab!
DESCRIPTION:Click here to apply! \nApplications for the 2023-2024 Cohort of the Columbia Startup Lab (CSL) are now open! If you’re a recent Columbia\, Barnard\, or Teachers College alum working full time on your startup\, apply to join CSL for subsidized coworking space\, mentorship\, programming\, and community. \n  \nWhy CSL?\nSpace: CSL members enjoy subsidized office space\, at a cut cost that makes office space affordable for early startups. \nProgramming: CSL programming is developed with the specific asks and needs of each cohort\, and includes: \n\nWorkshops on the basics of running a business\, such as accounting\, legal\, HR\, and digital marketing.\nGuest speakers and AMAs with vanguards of the venture capital and the NYC startup scene.\nAccess to the CSL Mentors in Residence ranging from entrepreneurship experts to professors across Columbia University\nRegular opportunities for feedback\, such as pitching practice\, Product Jams\, and problem-solution sessions.\n\nCommunity: Building a business is easier with the support of others who understand the life of an entrepreneur. At CSL\, you get the benefit of being around peers who are taking the same risks\, struggling with the same setbacks\, celebrating the same wins\, and asking the same questions. \n\nEligibility\n\nTeams must have at least one founding member who has graduated from Columbia University before the team’s move in date.\nCSL is open to recent alumni from across the University (including Barnard and Teachers College) who are committed to working on their venture full-time.\nOnly submit one application per team\, but include all Columbia affiliations in your application.\n\n\nQuick Facts\n\nAfter acceptance\, admitted teams may spend up to one year in the space. To be considered for another year\, the team must reapply.\nColumbia University affiliated tenants are required to commit to a four-month term in the space at a rate of $250 per month/per seat. Non-Columbia University team members will be required to make a contribution of $400 per month/per seat.\nThe space is administered by Studio by Tishman Speyer and includes: furnishings (desk & chair)\, WiFi\, printing\, meeting spaces\, phone booths\, water/coffee\, beer\, cleaning/maintenance and access to common facilities across the global Studio network.\nCSL provides ongoing workshops\, office hours\, networking events\, and community building activities to help resident ventures advance their businesses. All CSL teams are encouraged to participate.\nCSL does not provide funding or take equity in any company.\n\n 
URL:https://entrepreneurship.columbia.edu/event/deadline-apply-for-the-2023-2024-cohort-of-the-columbia-startup-lab/
CATEGORIES:Columbia Startup Lab
END:VEVENT
END:VCALENDAR