BEGIN:VCALENDAR
VERSION:2.0
PRODID:-//Columbia Entrepreneurship - ECPv6.15.18//NONSGML v1.0//EN
CALSCALE:GREGORIAN
METHOD:PUBLISH
X-WR-CALNAME:Columbia Entrepreneurship
X-ORIGINAL-URL:https://entrepreneurship.columbia.edu
X-WR-CALDESC:Events for Columbia Entrepreneurship
REFRESH-INTERVAL;VALUE=DURATION:PT1H
X-Robots-Tag:noindex
X-PUBLISHED-TTL:PT1H
BEGIN:VTIMEZONE
TZID:UTC
BEGIN:STANDARD
TZOFFSETFROM:+0000
TZOFFSETTO:+0000
TZNAME:UTC
DTSTART:20190101T000000
END:STANDARD
END:VTIMEZONE
BEGIN:VEVENT
DTSTART;TZID=UTC:20200414T163000
DTEND;TZID=UTC:20200414T173000
DTSTAMP:20260422T151532
CREATED:20200410T201238Z
LAST-MODIFIED:20200416T184228Z
UID:20373-1586881800-1586885400@entrepreneurship.columbia.edu
SUMMARY:Beyond the Headlines: Healthcare Industry Leaders on the Impact of COVID-19 (Panel 2)
DESCRIPTION:REGISTER \nColumbia Health Policy & Management (in the Mailman School of Public Health) is hosting a special panel series separating fact from speculation.
URL:https://entrepreneurship.columbia.edu/event/beyond-the-headlines-healthcare-industry-leaders-on-the-impact-of-covid-19-panel-2/
CATEGORIES:Columbia University Mailman School of Public Health
END:VEVENT
END:VCALENDAR