BEGIN:VCALENDAR
VERSION:2.0
PRODID:-//Columbia Entrepreneurship - ECPv6.15.18//NONSGML v1.0//EN
CALSCALE:GREGORIAN
METHOD:PUBLISH
X-WR-CALNAME:Columbia Entrepreneurship
X-ORIGINAL-URL:https://entrepreneurship.columbia.edu
X-WR-CALDESC:Events for Columbia Entrepreneurship
REFRESH-INTERVAL;VALUE=DURATION:PT1H
X-Robots-Tag:noindex
X-PUBLISHED-TTL:PT1H
BEGIN:VTIMEZONE
TZID:UTC
BEGIN:STANDARD
TZOFFSETFROM:+0000
TZOFFSETTO:+0000
TZNAME:UTC
DTSTART:20220101T000000
END:STANDARD
END:VTIMEZONE
BEGIN:VEVENT
DTSTART;VALUE=DATE:20230531
DTEND;VALUE=DATE:20230601
DTSTAMP:20260420T022922
CREATED:20230721T194222Z
LAST-MODIFIED:20230721T194222Z
UID:49957-1685491200-1685577599@entrepreneurship.columbia.edu
SUMMARY:Application Deadline: Project 2.8\, Female Founder Accelerator
DESCRIPTION:Founded through Columbia Venture Community in 2020\, Project 2.8 is a startup accelerator serving early stage\, pre-seed startups led by female founders who are current students or alumnae of Columbia University. Each cohort is made up of 10 startups and is industry agnostic. Project 2.8 does not currently invest in\, or take equity from\, any participating startups. \n\n\nThe application can be found here \n\n\nThe application deadline is May 31\, 2023 \n\n\nThe program will last eight weeks and will begin this fall in early September \n\n\nCurriculum is inclusive of core business methodologies and participation provides an opportunity to network with mentors\, investors and other founders from past cohorts \n\n\nFor more information about the program\, please visit https://www.projecttwoeight.com/
URL:https://entrepreneurship.columbia.edu/event/application-deadline-project-2-8-female-founder-accelerator/
CATEGORIES:Columbia Venture Community
END:VEVENT
END:VCALENDAR