BEGIN:VCALENDAR
VERSION:2.0
PRODID:-//Columbia Entrepreneurship - ECPv6.15.18//NONSGML v1.0//EN
CALSCALE:GREGORIAN
METHOD:PUBLISH
X-ORIGINAL-URL:https://entrepreneurship.columbia.edu
X-WR-CALDESC:Events for Columbia Entrepreneurship
REFRESH-INTERVAL;VALUE=DURATION:PT1H
X-Robots-Tag:noindex
X-PUBLISHED-TTL:PT1H
BEGIN:VTIMEZONE
TZID:UTC
BEGIN:STANDARD
TZOFFSETFROM:+0000
TZOFFSETTO:+0000
TZNAME:UTC
DTSTART:20190101T000000
END:STANDARD
END:VTIMEZONE
BEGIN:VEVENT
DTSTART;VALUE=DATE:20201231
DTEND;VALUE=DATE:20210101
DTSTAMP:20260425T004151
CREATED:20201207T195129Z
LAST-MODIFIED:20201207T195154Z
UID:24122-1609372800-1609459199@entrepreneurship.columbia.edu
SUMMARY:Deadline: X-Force Fellows
DESCRIPTION:APPLY HERE \nX-Force participants will engage with Department of Defense (DoD) partners for three months of applied problem solving. Participants will work on problems sponsored by their DoD hosts potentially including: \n-Technical (e.g. software development\, data analytics\, mechanical design/prototyping)\n-Strategy (e.g. communications and social media strategy)\n-Research (e.g. emerging technology scouting) projects. \nParticipants will be expected to deliver a prototype capability to their military sponsors by the end of the program. \nThe full-time X-Force Fellows will be paid a stipend of around $2\,500 per month and have a small budget for travel\, materials\, and other expenses related to the delivery of a product to their sponsor.
URL:https://entrepreneurship.columbia.edu/event/deadline-x-force-fellows/
CATEGORIES:Department of Defense
END:VEVENT
END:VCALENDAR