BEGIN:VCALENDAR
VERSION:2.0
PRODID:-//Columbia Entrepreneurship - ECPv6.15.18//NONSGML v1.0//EN
CALSCALE:GREGORIAN
METHOD:PUBLISH
X-WR-CALNAME:Columbia Entrepreneurship
X-ORIGINAL-URL:https://entrepreneurship.columbia.edu
X-WR-CALDESC:Events for Columbia Entrepreneurship
REFRESH-INTERVAL;VALUE=DURATION:PT1H
X-Robots-Tag:noindex
X-PUBLISHED-TTL:PT1H
BEGIN:VTIMEZONE
TZID:UTC
BEGIN:STANDARD
TZOFFSETFROM:+0000
TZOFFSETTO:+0000
TZNAME:UTC
DTSTART:20190101T000000
END:STANDARD
END:VTIMEZONE
BEGIN:VEVENT
DTSTART;TZID=UTC:20201015T170000
DTEND;TZID=UTC:20201015T190000
DTSTAMP:20260425T111759
CREATED:20201012T170607Z
LAST-MODIFIED:20201012T170607Z
UID:21807-1602781200-1602788400@entrepreneurship.columbia.edu
SUMMARY:NYC Defense Innovation Meetup 
DESCRIPTION:Register here. \nAir Force Research Lab (AFRL) Information Directorate (Rome\, NY) chief engineer\, Karen Roth\, will provide an overview of AFRL Rome’s open innovation initiatives\, including their public-private partnership Innovare\, followed by Q&A\, and open community discussion (gives\, asks\, news).
URL:https://entrepreneurship.columbia.edu/event/nyc-defense-innovation-meetup/
CATEGORIES:Department of Defense
END:VEVENT
END:VCALENDAR