BEGIN:VCALENDAR
VERSION:2.0
PRODID:-//Columbia Entrepreneurship - ECPv6.15.18//NONSGML v1.0//EN
CALSCALE:GREGORIAN
METHOD:PUBLISH
X-WR-CALNAME:Columbia Entrepreneurship
X-ORIGINAL-URL:https://entrepreneurship.columbia.edu
X-WR-CALDESC:Events for Columbia Entrepreneurship
REFRESH-INTERVAL;VALUE=DURATION:PT1H
X-Robots-Tag:noindex
X-PUBLISHED-TTL:PT1H
BEGIN:VTIMEZONE
TZID:UTC
BEGIN:STANDARD
TZOFFSETFROM:+0000
TZOFFSETTO:+0000
TZNAME:UTC
DTSTART:20180101T000000
END:STANDARD
END:VTIMEZONE
BEGIN:VEVENT
DTSTART;TZID=UTC:20190417T130000
DTEND;TZID=UTC:20190417T140000
DTSTAMP:20260421T234109
CREATED:20190415T190231Z
LAST-MODIFIED:20190415T190231Z
UID:16101-1555506000-1555509600@entrepreneurship.columbia.edu
SUMMARY:Design Thinking Roundtable
DESCRIPTION:OPEN TO ALL \n\nCome and learn about the progress of Columbia teams working on a design challenge with Brazilian EdTech clients – Nova Escola\, Khan Academy Brazil and Arvore de Livros! The Design Studio’s Adam Royalty will be on hand to walk through the design process and opportunities to get involved. Non-pizza lunch served! Date: April 17th; Time: 1:00-2:00 PM; Location: IAB 405. \n \n 
URL:https://entrepreneurship.columbia.edu/event/design-thinking-roundtable/
CATEGORIES:Columbia Entrepreneurship Design Studio,SIPA Education Collaborative
END:VEVENT
END:VCALENDAR