BEGIN:VCALENDAR
VERSION:2.0
PRODID:-//Columbia Entrepreneurship - ECPv6.15.18//NONSGML v1.0//EN
CALSCALE:GREGORIAN
METHOD:PUBLISH
X-ORIGINAL-URL:https://entrepreneurship.columbia.edu
X-WR-CALDESC:Events for Columbia Entrepreneurship
REFRESH-INTERVAL;VALUE=DURATION:PT1H
X-Robots-Tag:noindex
X-PUBLISHED-TTL:PT1H
BEGIN:VTIMEZONE
TZID:UTC
BEGIN:STANDARD
TZOFFSETFROM:+0000
TZOFFSETTO:+0000
TZNAME:UTC
DTSTART:20190101T000000
END:STANDARD
END:VTIMEZONE
BEGIN:VEVENT
DTSTART;TZID=UTC:20200623T130000
DTEND;TZID=UTC:20200623T140000
DTSTAMP:20260424T120652
CREATED:20200618T165042Z
LAST-MODIFIED:20200618T165051Z
UID:20723-1592917200-1592920800@entrepreneurship.columbia.edu
SUMMARY:Manifesto for a Moral Revolution: Practices to Build a Better World
DESCRIPTION:RSVP HERE \nThe Tamer Center for Social Enterprise is pleased to host the upcoming fireside chat book talk where Jacqueline Novogratz will discuss her new book\, Manifesto for a Moral Revolution: Practices to Build a Better World\, which offers the perspectives necessary for all those — whether ascending the corporate ladder\, solving inequity across key systems in the United States\, or bringing solar light to rural villages — who seek to leave this world better off than they found it.
URL:https://entrepreneurship.columbia.edu/event/manifesto-for-a-moral-revolution-practices-to-build-a-better-world/
CATEGORIES:Tamer Center for Social Enterprise @ CBS
END:VEVENT
END:VCALENDAR