BEGIN:VCALENDAR
VERSION:2.0
PRODID:-//Columbia Entrepreneurship - ECPv6.15.18//NONSGML v1.0//EN
CALSCALE:GREGORIAN
METHOD:PUBLISH
X-WR-CALNAME:Columbia Entrepreneurship
X-ORIGINAL-URL:https://entrepreneurship.columbia.edu
X-WR-CALDESC:Events for Columbia Entrepreneurship
REFRESH-INTERVAL;VALUE=DURATION:PT1H
X-Robots-Tag:noindex
X-PUBLISHED-TTL:PT1H
BEGIN:VTIMEZONE
TZID:UTC
BEGIN:STANDARD
TZOFFSETFROM:+0000
TZOFFSETTO:+0000
TZNAME:UTC
DTSTART:20190101T000000
END:STANDARD
END:VTIMEZONE
BEGIN:VEVENT
DTSTART;TZID=UTC:20200410T123000
DTEND;TZID=UTC:20200410T133000
DTSTAMP:20260424T231229
CREATED:20200410T200937Z
LAST-MODIFIED:20200410T200937Z
UID:20368-1586521800-1586525400@entrepreneurship.columbia.edu
SUMMARY:Social Impact Webinar: Feeding New York During COVID-19
DESCRIPTION:REGISTER \nThe Tamer Center hosts Emma Hulse\, manager at NewYork-Presbyterian Hospital; Katherine Miller\, vice president of impact at James Beard Foundation; and Greg Silverman\, executive director of West Side Campaign Against Hunger.
URL:https://entrepreneurship.columbia.edu/event/social-impact-webinar-feeding-new-york-during-covid-19/
CATEGORIES:Tamer Center for Social Enterprise @ CBS
END:VEVENT
END:VCALENDAR