BEGIN:VCALENDAR
VERSION:2.0
PRODID:-//Columbia Entrepreneurship - ECPv6.15.18//NONSGML v1.0//EN
CALSCALE:GREGORIAN
METHOD:PUBLISH
X-ORIGINAL-URL:https://entrepreneurship.columbia.edu
X-WR-CALDESC:Events for Columbia Entrepreneurship
REFRESH-INTERVAL;VALUE=DURATION:PT1H
X-Robots-Tag:noindex
X-PUBLISHED-TTL:PT1H
BEGIN:VTIMEZONE
TZID:UTC
BEGIN:STANDARD
TZOFFSETFROM:+0000
TZOFFSETTO:+0000
TZNAME:UTC
DTSTART:20190101T000000
END:STANDARD
END:VTIMEZONE
BEGIN:VEVENT
DTSTART;TZID=UTC:20200417T130000
DTEND;TZID=UTC:20200417T140000
DTSTAMP:20260424T231332
CREATED:20200416T185034Z
LAST-MODIFIED:20200416T185034Z
UID:20411-1587128400-1587132000@entrepreneurship.columbia.edu
SUMMARY:Social Impact Webinar Series: Addressing New Norms Amidst COVID-19
DESCRIPTION:Register \nImagine it is September 2020\, five months from now. The COVID-19 curve has flattened and is on the decline. People begin to return to work and social activities\, and life is beginning to operate at the rate we knew before the pandemic. \nWhat are your top three concerns as you re-enter the workforce? What are your top three concerns as you re-enter social life? \nWhether you are a social entrepreneur\, small business owner\, employee\, job-seeker\, student\, or alumni\, please bring your ideas\, an open mind\, and a willingness to interact with others!
URL:https://entrepreneurship.columbia.edu/event/social-impact-webinar-series-addressing-new-norms-amidst-covid-19/
CATEGORIES:Tamer Center for Social Enterprise @ CBS
END:VEVENT
END:VCALENDAR