BEGIN:VCALENDAR
VERSION:2.0
PRODID:-//Columbia Entrepreneurship - ECPv6.15.18//NONSGML v1.0//EN
CALSCALE:GREGORIAN
METHOD:PUBLISH
X-WR-CALNAME:Columbia Entrepreneurship
X-ORIGINAL-URL:https://entrepreneurship.columbia.edu
X-WR-CALDESC:Events for Columbia Entrepreneurship
REFRESH-INTERVAL;VALUE=DURATION:PT1H
X-Robots-Tag:noindex
X-PUBLISHED-TTL:PT1H
BEGIN:VTIMEZONE
TZID:UTC
BEGIN:STANDARD
TZOFFSETFROM:+0000
TZOFFSETTO:+0000
TZNAME:UTC
DTSTART:20190101T000000
END:STANDARD
END:VTIMEZONE
BEGIN:VEVENT
DTSTART;TZID=UTC:20200427T183000
DTEND;TZID=UTC:20200427T193000
DTSTAMP:20260424T200310
CREATED:20200416T184755Z
LAST-MODIFIED:20200416T184755Z
UID:20409-1588012200-1588015800@entrepreneurship.columbia.edu
SUMMARY:Social Impact Webinar: The State of the Modern Political Economy
DESCRIPTION:The Tamer Center welcomes Ray Horton\, Frank R. Lautenberg Professor of Ethics and Corporate Governance and faculty director of Programs in Social Enterprise in Executive Education; Dean Emeritus Glenn Hubbard\, Russell L. Carson Professor of Finance and Economics; and Tano Santos\, David L. and Elsie M. Dodd Professor of Finance and co-director of Heilbrunn Center for Graham and Dodd Investing. \nRegister
URL:https://entrepreneurship.columbia.edu/event/social-impact-webinar-the-state-of-the-modern-political-economy/
CATEGORIES:Tamer Center for Social Enterprise @ CBS
END:VEVENT
END:VCALENDAR