BEGIN:VCALENDAR
VERSION:2.0
PRODID:-//Columbia Entrepreneurship - ECPv6.15.18//NONSGML v1.0//EN
CALSCALE:GREGORIAN
METHOD:PUBLISH
X-ORIGINAL-URL:https://entrepreneurship.columbia.edu
X-WR-CALDESC:Events for Columbia Entrepreneurship
REFRESH-INTERVAL;VALUE=DURATION:PT1H
X-Robots-Tag:noindex
X-PUBLISHED-TTL:PT1H
BEGIN:VTIMEZONE
TZID:UTC
BEGIN:STANDARD
TZOFFSETFROM:+0000
TZOFFSETTO:+0000
TZNAME:UTC
DTSTART:20220101T000000
END:STANDARD
END:VTIMEZONE
BEGIN:VEVENT
DTSTART;VALUE=DATE:20231201
DTEND;VALUE=DATE:20231202
DTSTAMP:20260426T040830
CREATED:20230726T211544Z
LAST-MODIFIED:20240125T180723Z
UID:50070-1701388800-1701475199@entrepreneurship.columbia.edu
SUMMARY:Rolling Admission: Columbia Startup Lab Uptown
DESCRIPTION:Columbia Startup Lab (CSL) Uptown provides a host of campus-wide programming\, open working space\, mentorship\, and connection to other entrepreneurship nodes around the University for aspiring student founders currently enrolled at Columbia and Barnard. This is a way to onboard into the Columbia entrepreneurship ecosystem throughout the year. \nOur on-campus programming is structured to catch students at 2 distinct points in the entrepreneurship journey: CSL: LEARN and CSL: INCUBATE. \nRead more and submit an application here.
URL:https://entrepreneurship.columbia.edu/event/rolling-admission-columbia-startup-lab-morningside-5/
CATEGORIES:Columbia Entrepreneurship
END:VEVENT
BEGIN:VEVENT
DTSTART;TZID=UTC:20231214T180000
DTEND;TZID=UTC:20231214T210000
DTSTAMP:20260426T040830
CREATED:20230810T003644Z
LAST-MODIFIED:20230810T003651Z
UID:50321-1702576800-1702587600@entrepreneurship.columbia.edu
SUMMARY:Networking Happy Hour
DESCRIPTION:Calling all individuals interested in the venture space – entrepreneurs\, founders\, investors\, venture capitalists – Join Columbia Venture Community for in-person networking happy hours on the 2nd Thursday of each month in 2023! For the second half of the year\, join us for an exciting series of events happening on 8/10/23\, 9/14/23\, 10/12/23\, 11/09/23\, and 12/14/23 — each dedicated to exploring the forefront of innovation in specific industries. Mark your calendars and RSVP here! \nTickets are $12.98 \n12/14/23 – ALL industries \nPrevious events: \n6/8/23 – FINTECH\n7/13/23 – AIl\n8/10/23 – WOMEN FOUNDERS & INVESTORS\n9/14/23 – ESG\n10/12/23 – BIOTECH\n11/09/23 – WEB3 \nRSVP \nColumbia Venture Community is pleased to invite you to a Networking and Social Event in support of our NYC venture community! Come out and join us for drinks and socializing with the goal of meeting and supporting the many entrepreneurs and investors in our community. This event is open to all. We look forward to seeing you there! \n*Note: In order to attend and receive a drink ticket\, you must register for this event each month! \nAll ticket sales are final. We primarily use ticketing to ensure the quality of events we continue to organize for you. \nMore about CVC: Columbia Venture Community is a network of more than 6\,000+ Columbia alumni interested in all aspects of entrepreneurship and innovation. Founded in 2006\, CVC has hosted more than 400 events around the world. Today\, CVC hosts multiple global programs\, in-person and virtual events\, and an online community for members to share resources.
URL:https://entrepreneurship.columbia.edu/event/networking-happy-hour-2/
CATEGORIES:Columbia Venture Community
END:VEVENT
END:VCALENDAR