BEGIN:VCALENDAR
VERSION:2.0
PRODID:-//Columbia Entrepreneurship - ECPv6.15.18//NONSGML v1.0//EN
CALSCALE:GREGORIAN
METHOD:PUBLISH
X-ORIGINAL-URL:https://entrepreneurship.columbia.edu
X-WR-CALDESC:Events for Columbia Entrepreneurship
REFRESH-INTERVAL;VALUE=DURATION:PT1H
X-Robots-Tag:noindex
X-PUBLISHED-TTL:PT1H
BEGIN:VTIMEZONE
TZID:UTC
BEGIN:STANDARD
TZOFFSETFROM:+0000
TZOFFSETTO:+0000
TZNAME:UTC
DTSTART:20230101T000000
END:STANDARD
END:VTIMEZONE
BEGIN:VEVENT
DTSTART;VALUE=DATE:20240201
DTEND;VALUE=DATE:20240202
DTSTAMP:20260425T133258
CREATED:20240104T181355Z
LAST-MODIFIED:20240125T180640Z
UID:51538-1706745600-1706831999@entrepreneurship.columbia.edu
SUMMARY:Rolling Admission: Columbia Startup Lab Uptown
DESCRIPTION:Columbia Startup Lab (CSL) Uptown provides a host of campus-wide programming\, open working space\, mentorship\, and connection to other entrepreneurship nodes around the University for aspiring student founders currently enrolled at Columbia and Barnard. This is a way to onboard into the Columbia entrepreneurship ecosystem throughout the year. \nOur on-campus programming is structured to catch students at 2 distinct points in the entrepreneurship journey: CSL: LEARN and CSL: INCUBATE. \nRead more and submit an application here.
URL:https://entrepreneurship.columbia.edu/event/rolling-admission-columbia-startup-lab-morningside-feb-2024/
CATEGORIES:Columbia Entrepreneurship
END:VEVENT
BEGIN:VEVENT
DTSTART;VALUE=DATE:20240209
DTEND;VALUE=DATE:20240210
DTSTAMP:20260425T133258
CREATED:20240111T152152Z
LAST-MODIFIED:20240117T221857Z
UID:67145-1707436800-1707523199@entrepreneurship.columbia.edu
SUMMARY:Application Deadline: Startup Columbia 2024
DESCRIPTION:Startup Columbia is a series of campus-wide startup competitions offering non-dilutive cash prizes to the winning teams. Applications open in early January each year and are open to early-stage ventures founded\, managed\, and owned by current Columbia students\, or by Columbia alumni within 5 years of their most recent Columbia degree. \nEach year\, alumni judges evaluate competitors in each of the various competitions. All competitions have their own focus\, save for the OPEN Competition\, which is open to any kind of business model\, including not-for-profit and social enterprises. As you will see in the Rules & Regulations\, teams who wish to compete must choose to enter one competition only. Please note that the SIPA track is no longer accepting applications. \nApplications for the 2024 Startup Columbia Competition will be OPEN from Jan 7\, 2024 and will CLOSE February 9th\, 2024! \nLEARN MORE AND APPLY
URL:https://entrepreneurship.columbia.edu/event/deadline-startup-columbia-2024/
CATEGORIES:Columbia Entrepreneurship
END:VEVENT
BEGIN:VEVENT
DTSTART;VALUE=DATE:20240226
DTEND;VALUE=DATE:20240227
DTSTAMP:20260425T133258
CREATED:20240123T181144Z
LAST-MODIFIED:20240123T181144Z
UID:67423-1708905600-1708991999@entrepreneurship.columbia.edu
SUMMARY:Tamer Center for Social Enterprise 2024 Annual Reception
DESCRIPTION:REGISTER \nYou are cordially invited to join Columbia Business School for an evening of networking and socializing with fellow alumni\, faculty members\, students\, and professionals in the climate and social enterprise sector. \nThis year’s reception will feature remarks from Austin Smith ’22\, managing partner of Alley\, a full-service digital agency that creates digital solutions that connect people to news\, entertainment\, ideas — and to each other. Austin will share his experience working with the ReEntry Acceleration Program (REAP) and Justice Through Code (JTC) and how he leveraged his experience\, skills\, and EMBA degree\, as well as the resources and capabilities of Alley\, to empower formerly incarcerated individuals who need second chance career track employment opportunities. Hear from Austin about how he created a reentry simulation used in the REAP Immersion class and the mentoring platform that contributes to ongoing learning for the MBA network and JTC students alike. Professor Dan Wang will provide welcome remarks.
URL:https://entrepreneurship.columbia.edu/event/tamer-center-for-social-enterprise-2024-annual-reception/
CATEGORIES:Tamer Center for Social Enterprise @ CBS
END:VEVENT
END:VCALENDAR