BEGIN:VCALENDAR
VERSION:2.0
PRODID:-//Columbia Entrepreneurship - ECPv6.15.18//NONSGML v1.0//EN
CALSCALE:GREGORIAN
METHOD:PUBLISH
X-ORIGINAL-URL:https://entrepreneurship.columbia.edu
X-WR-CALDESC:Events for Columbia Entrepreneurship
REFRESH-INTERVAL;VALUE=DURATION:PT1H
X-Robots-Tag:noindex
X-PUBLISHED-TTL:PT1H
BEGIN:VTIMEZONE
TZID:UTC
BEGIN:STANDARD
TZOFFSETFROM:+0000
TZOFFSETTO:+0000
TZNAME:UTC
DTSTART:20230101T000000
END:STANDARD
END:VTIMEZONE
BEGIN:VEVENT
DTSTART;VALUE=DATE:20240912
DTEND;VALUE=DATE:20240913
DTSTAMP:20260423T065816
CREATED:20240912T141244Z
LAST-MODIFIED:20240912T141244Z
UID:69397-1726099200-1726185599@entrepreneurship.columbia.edu
SUMMARY:Rolling Admission: Columbia Startup Lab Uptown
DESCRIPTION:Columbia Startup Lab (CSL) Uptown\, located on the Morningside campus\, provides a host of campus-wide programming\, open working space\, mentorship\, and connection to other entrepreneurship nodes around the University for aspiring student founders currently enrolled at Columbia and Barnard. \nWe are lucky to have cultivated a very vibrant community of students and alumni who take a genuine interest in helping others in the CSL community. It’s about engagement and sharing\, not about just “working on your own venture”. When reviewing applications for participation\, we look for individuals who are going to give back as much as they get out of this experience. \n[ CLICK HERE TO APPLY ]
URL:https://entrepreneurship.columbia.edu/event/rolling-admission-columbia-startup-lab-uptown/
END:VEVENT
BEGIN:VEVENT
DTSTART;VALUE=DATE:20240913
DTEND;VALUE=DATE:20240914
DTSTAMP:20260423T065816
CREATED:20240911T160359Z
LAST-MODIFIED:20240911T160359Z
UID:69382-1726185600-1726271999@entrepreneurship.columbia.edu
SUMMARY:Columbia Startup Lab Uptown Programming Begins
DESCRIPTION:Columbia Startup Lab (CSL) Uptown\, located on the Morningside campus\, provides a host of campus-wide programming\, open working space\, mentorship\, and connection to other entrepreneurship nodes around the University for aspiring student founders currently enrolled at Columbia and Barnard. \nWe are lucky to have cultivated a very vibrant community of students and alumni who take a genuine interest in helping others in the CSL community. It’s about engagement and sharing\, not about just “working on your own venture”. When reviewing applications for participation\, we look for individuals who are going to give back as much as they get out of this experience. \n[ CLICK HERE TO APPLY ]
URL:https://entrepreneurship.columbia.edu/event/columbia-startup-lab-uptown-programming-begins/
END:VEVENT
BEGIN:VEVENT
DTSTART;TZID=UTC:20240918T170000
DTEND;TZID=UTC:20240918T183000
DTSTAMP:20260423T065816
CREATED:20240911T160532Z
LAST-MODIFIED:20240911T170345Z
UID:69384-1726678800-1726684200@entrepreneurship.columbia.edu
SUMMARY:Innovation Forum
DESCRIPTION:Register for the fall welcome event on September 18th to meet new and current entrepreneurs at Columbia. Dan Steingart\, co-director of the Columbia Electrochemical Energy Center will join Professor Harry West\, co-faculty director of IDE\, and Ivy Schultz\, Director of Entrepreneurship Programs\, to share how to get started on all things entrepreneurship at Columbia. You’ll hear from Columbia faculty and other experts on opportunities at Columbia\, their experience in startups\, and more. RSVP to learn about upcoming entrepreneurship programs and events in the 2024 – 2025 school year.
URL:https://entrepreneurship.columbia.edu/event/innovation-forum/
CATEGORIES:Columbia Engineering
END:VEVENT
END:VCALENDAR